BEGIN:VCALENDAR
VERSION:2.0
METHOD:PUBLISH
PRODID:-//Agenda.ad//NONSGML v1.0//EN
BEGIN:VEVENT
CLASS:PUBLIC
UID:be8c1ba1f97afaf81131ede75fbe6664@agenda.ad
DTSTAMP:20260419T190204Z
DTSTART:20260317T230000Z
DTEND:20260317T230000Z
SUMMARY:Liter'Art&nbsp;<br /><em>Els privilegiats</em>, de N&uacute;ria Perpiny&agrave;
DESCRIPTION:\n\nMés informació\nhttps://www.agenda.ad/activitat/escald
 es-engordany/lletres/liter-art -els-privilegiats-de-nuria-p
 erpinya\n
LOCATION:Biblioteca Comunal d'Escaldes-Engordany
SEQUENCE:0
TRANSP:OPAQUE
X-ALT-DESC;FMTTYPE=text/html:<!DOCTYPE HTML PUBLIC "-//W3C//DTD HTML 3.2//EN"><HTML><HEAD
 ><TITLE></TITLE></HEAD><BODY><FONT FACE="Arial" SIZE=2><br/>
 <br/><b>Més informació</b><br/><a href="https://www.agenda
 .ad/activitat/escaldes-engordany/lletres/liter-art -els-pri
 vilegiats-de-nuria-perpinya">https://www.agenda.ad/activitat
 /escaldes-engordany/lletres/liter-art -els-privilegiats-de-
 nuria-perpinya</a><br/></FONT></BODY></HTML>
END:VEVENT
END:VCALENDAR